BEGIN:VCALENDAR
VERSION:2.0
PRODID:-//Schützenverein Okel e.V. - ECPv6.15.20//NONSGML v1.0//EN
CALSCALE:GREGORIAN
METHOD:PUBLISH
X-WR-CALNAME:Schützenverein Okel e.V.
X-ORIGINAL-URL:https://www.schuetzenverein-okel.de
X-WR-CALDESC:Veranstaltungen für Schützenverein Okel e.V.
REFRESH-INTERVAL;VALUE=DURATION:PT1H
X-Robots-Tag:noindex
X-PUBLISHED-TTL:PT1H
BEGIN:VTIMEZONE
TZID:Europe/Berlin
BEGIN:DAYLIGHT
TZOFFSETFROM:+0100
TZOFFSETTO:+0200
TZNAME:CEST
DTSTART:20250330T010000
END:DAYLIGHT
BEGIN:STANDARD
TZOFFSETFROM:+0200
TZOFFSETTO:+0100
TZNAME:CET
DTSTART:20251026T010000
END:STANDARD
BEGIN:DAYLIGHT
TZOFFSETFROM:+0100
TZOFFSETTO:+0200
TZNAME:CEST
DTSTART:20260329T010000
END:DAYLIGHT
BEGIN:STANDARD
TZOFFSETFROM:+0200
TZOFFSETTO:+0100
TZNAME:CET
DTSTART:20261025T010000
END:STANDARD
BEGIN:DAYLIGHT
TZOFFSETFROM:+0100
TZOFFSETTO:+0200
TZNAME:CEST
DTSTART:20270328T010000
END:DAYLIGHT
BEGIN:STANDARD
TZOFFSETFROM:+0200
TZOFFSETTO:+0100
TZNAME:CET
DTSTART:20271031T010000
END:STANDARD
END:VTIMEZONE
BEGIN:VEVENT
DTSTART;TZID=Europe/Berlin:20260427T180000
DTEND;TZID=Europe/Berlin:20260427T193000
DTSTAMP:20260424T140125
CREATED:20260202T114707Z
LAST-MODIFIED:20260202T114707Z
UID:4207-1777312800-1777318200@www.schuetzenverein-okel.de
SUMMARY:Training Jugend
DESCRIPTION:
URL:https://www.schuetzenverein-okel.de/event/training-jugend-59/
LOCATION:Privat: Schützenhalle
END:VEVENT
BEGIN:VEVENT
DTSTART;TZID=Europe/Berlin:20260427T200000
DTEND;TZID=Europe/Berlin:20260427T220000
DTSTAMP:20260424T140125
CREATED:20260202T115653Z
LAST-MODIFIED:20260202T115729Z
UID:4220-1777320000-1777327200@www.schuetzenverein-okel.de
SUMMARY:Training Herren
DESCRIPTION:
URL:https://www.schuetzenverein-okel.de/event/training-herren-3/
LOCATION:Privat: Schützenhalle
END:VEVENT
BEGIN:VEVENT
DTSTART;TZID=Europe/Berlin:20260428T200000
DTEND;TZID=Europe/Berlin:20260428T220000
DTSTAMP:20260424T140125
CREATED:20260202T121124Z
LAST-MODIFIED:20260202T121124Z
UID:4244-1777406400-1777413600@www.schuetzenverein-okel.de
SUMMARY:Training Damen
DESCRIPTION:
URL:https://www.schuetzenverein-okel.de/event/training-damen-5/
LOCATION:Privat: Schützenhalle
END:VEVENT
BEGIN:VEVENT
DTSTART;TZID=Europe/Berlin:20260501T110000
DTEND;TZID=Europe/Berlin:20260501T110000
DTSTAMP:20260424T140125
CREATED:20260202T102630Z
LAST-MODIFIED:20260407T195619Z
UID:4109-1777633200-1777633200@www.schuetzenverein-okel.de
SUMMARY:Eröffnungsfeier Schützenhalle Okel
DESCRIPTION:
URL:https://www.schuetzenverein-okel.de/event/eroeffnungsfeier-schuetzenhalle-okel/
LOCATION:Privat: Schützenhalle
ATTACH;FMTTYPE=image/jpeg:https://www.schuetzenverein-okel.de/wp-content/uploads/2026/02/Einweihung-Schuetzenhalle-01.05.2026.jpg
END:VEVENT
BEGIN:VEVENT
DTSTART;TZID=Europe/Berlin:20260504T180000
DTEND;TZID=Europe/Berlin:20260504T193000
DTSTAMP:20260424T140125
CREATED:20260202T114555Z
LAST-MODIFIED:20260202T114555Z
UID:4208-1777917600-1777923000@www.schuetzenverein-okel.de
SUMMARY:Training Jugend
DESCRIPTION:
URL:https://www.schuetzenverein-okel.de/event/training-jugend-58/
LOCATION:Privat: Schützenhalle
END:VEVENT
BEGIN:VEVENT
DTSTART;TZID=Europe/Berlin:20260504T200000
DTEND;TZID=Europe/Berlin:20260504T220000
DTSTAMP:20260424T140125
CREATED:20260202T115902Z
LAST-MODIFIED:20260202T115902Z
UID:4224-1777924800-1777932000@www.schuetzenverein-okel.de
SUMMARY:Training Herren
DESCRIPTION:
URL:https://www.schuetzenverein-okel.de/event/training-herren-4/
LOCATION:Privat: Schützenhalle
END:VEVENT
BEGIN:VEVENT
DTSTART;TZID=Europe/Berlin:20260505T200000
DTEND;TZID=Europe/Berlin:20260505T220000
DTSTAMP:20260424T140125
CREATED:20260202T121014Z
LAST-MODIFIED:20260202T121014Z
UID:4242-1778011200-1778018400@www.schuetzenverein-okel.de
SUMMARY:Training Damen
DESCRIPTION:
URL:https://www.schuetzenverein-okel.de/event/training-damen-4/
LOCATION:Privat: Schützenhalle
END:VEVENT
BEGIN:VEVENT
DTSTART;VALUE=DATE:20260508
DTEND;VALUE=DATE:20260510
DTSTAMP:20260424T140125
CREATED:20260419T171116Z
LAST-MODIFIED:20260419T183735Z
UID:4443-1778198400-1778371199@www.schuetzenverein-okel.de
SUMMARY:Schützenfest in Osterholz
DESCRIPTION:
URL:https://www.schuetzenverein-okel.de/event/schuetzenfest-in-osterholz/
LOCATION:Schützenhalle Osterholz\, Geestrand 20\, Syke-Osterholz\, 28857\, Germany
END:VEVENT
BEGIN:VEVENT
DTSTART;VALUE=DATE:20260509
DTEND;VALUE=DATE:20260511
DTSTAMP:20260424T140125
CREATED:20260202T110225Z
LAST-MODIFIED:20260419T183928Z
UID:4165-1778284800-1778457599@www.schuetzenverein-okel.de
SUMMARY:Schützenfest DiDoHo (Dibbersen\, Donnerstedt und Horstedt)
DESCRIPTION:
URL:https://www.schuetzenverein-okel.de/event/schuetzenfest-didoho-dibbersen-donnerstedt-und-horstedt/
LOCATION:Schützenplatz DiDoHo\, Am Adeligen Holze 8\, Thedinghausen-Dibbersen\, 27321
END:VEVENT
BEGIN:VEVENT
DTSTART;TZID=Europe/Berlin:20260511T180000
DTEND;TZID=Europe/Berlin:20260511T193000
DTSTAMP:20260424T140125
CREATED:20260202T114408Z
LAST-MODIFIED:20260202T114408Z
UID:4204-1778522400-1778527800@www.schuetzenverein-okel.de
SUMMARY:Training Jugend
DESCRIPTION:
URL:https://www.schuetzenverein-okel.de/event/training-jugend-57/
LOCATION:Privat: Schützenhalle
END:VEVENT
BEGIN:VEVENT
DTSTART;TZID=Europe/Berlin:20260511T200000
DTEND;TZID=Europe/Berlin:20260511T220000
DTSTAMP:20260424T140125
CREATED:20260202T120034Z
LAST-MODIFIED:20260202T120034Z
UID:4228-1778529600-1778536800@www.schuetzenverein-okel.de
SUMMARY:Training Herren
DESCRIPTION:
URL:https://www.schuetzenverein-okel.de/event/training-herren-6/
LOCATION:Privat: Schützenhalle
END:VEVENT
BEGIN:VEVENT
DTSTART;TZID=Europe/Berlin:20260512T200000
DTEND;TZID=Europe/Berlin:20260512T220000
DTSTAMP:20260424T140125
CREATED:20260202T120914Z
LAST-MODIFIED:20260202T120914Z
UID:4240-1778616000-1778623200@www.schuetzenverein-okel.de
SUMMARY:Training Damen
DESCRIPTION:
URL:https://www.schuetzenverein-okel.de/event/training-damen-3/
LOCATION:Privat: Schützenhalle
END:VEVENT
BEGIN:VEVENT
DTSTART;VALUE=DATE:20260516
DTEND;VALUE=DATE:20260518
DTSTAMP:20260424T140125
CREATED:20260419T171436Z
LAST-MODIFIED:20260419T171436Z
UID:4445-1778889600-1779062399@www.schuetzenverein-okel.de
SUMMARY:Schützenfest in Sudweyhe
DESCRIPTION:
URL:https://www.schuetzenverein-okel.de/event/schuetzenfest-in-sudweyhe/
LOCATION:Schützenplatz Sudweyhe\, Heidstraße 42\, Weyhe-Sudweyhe\, 28847
END:VEVENT
BEGIN:VEVENT
DTSTART;TZID=Europe/Berlin:20260518T180000
DTEND;TZID=Europe/Berlin:20260518T193000
DTSTAMP:20260424T140125
CREATED:20260202T114318Z
LAST-MODIFIED:20260202T114318Z
UID:4202-1779127200-1779132600@www.schuetzenverein-okel.de
SUMMARY:Training Jugend
DESCRIPTION:
URL:https://www.schuetzenverein-okel.de/event/training-jugend-56/
LOCATION:Privat: Schützenhalle
END:VEVENT
BEGIN:VEVENT
DTSTART;TZID=Europe/Berlin:20260518T200000
DTEND;TZID=Europe/Berlin:20260518T220000
DTSTAMP:20260424T140125
CREATED:20260202T120148Z
LAST-MODIFIED:20260202T120148Z
UID:4230-1779134400-1779141600@www.schuetzenverein-okel.de
SUMMARY:Training Herren
DESCRIPTION:
URL:https://www.schuetzenverein-okel.de/event/training-herren-7/
LOCATION:Privat: Schützenhalle
END:VEVENT
BEGIN:VEVENT
DTSTART;TZID=Europe/Berlin:20260519T200000
DTEND;TZID=Europe/Berlin:20260519T220000
DTSTAMP:20260424T140125
CREATED:20260202T120812Z
LAST-MODIFIED:20260202T120812Z
UID:4238-1779220800-1779228000@www.schuetzenverein-okel.de
SUMMARY:Training Damen
DESCRIPTION:
URL:https://www.schuetzenverein-okel.de/event/training-damen-2/
LOCATION:Privat: Schützenhalle
END:VEVENT
BEGIN:VEVENT
DTSTART;VALUE=DATE:20260523
DTEND;VALUE=DATE:20260525
DTSTAMP:20260424T140125
CREATED:20260202T110505Z
LAST-MODIFIED:20260202T110505Z
UID:4171-1779494400-1779667199@www.schuetzenverein-okel.de
SUMMARY:Schützenfest Bahlum
DESCRIPTION:
URL:https://www.schuetzenverein-okel.de/event/schuetzenfest-bahlum/
LOCATION:Schützenhalle Bahlum
END:VEVENT
BEGIN:VEVENT
DTSTART;TZID=Europe/Berlin:20260525T180000
DTEND;TZID=Europe/Berlin:20260525T193000
DTSTAMP:20260424T140125
CREATED:20260202T114204Z
LAST-MODIFIED:20260202T114204Z
UID:4200-1779732000-1779737400@www.schuetzenverein-okel.de
SUMMARY:Training Jugend
DESCRIPTION:
URL:https://www.schuetzenverein-okel.de/event/training-jugend-55/
LOCATION:Privat: Schützenhalle
END:VEVENT
BEGIN:VEVENT
DTSTART;TZID=Europe/Berlin:20260525T200000
DTEND;TZID=Europe/Berlin:20260525T220000
DTSTAMP:20260424T140125
CREATED:20260202T120300Z
LAST-MODIFIED:20260202T120300Z
UID:4232-1779739200-1779746400@www.schuetzenverein-okel.de
SUMMARY:Training Herren
DESCRIPTION:
URL:https://www.schuetzenverein-okel.de/event/training-herren-58/
LOCATION:Privat: Schützenhalle
END:VEVENT
BEGIN:VEVENT
DTSTART;TZID=Europe/Berlin:20260526T200000
DTEND;TZID=Europe/Berlin:20260526T220000
DTSTAMP:20260424T140125
CREATED:20260202T120628Z
LAST-MODIFIED:20260202T120628Z
UID:4236-1779825600-1779832800@www.schuetzenverein-okel.de
SUMMARY:Training Damen
DESCRIPTION:
URL:https://www.schuetzenverein-okel.de/event/training-damen/
LOCATION:Privat: Schützenhalle
END:VEVENT
BEGIN:VEVENT
DTSTART;TZID=Europe/Berlin:20260605T200000
DTEND;TZID=Europe/Berlin:20260605T200000
DTSTAMP:20260424T140125
CREATED:20260202T111600Z
LAST-MODIFIED:20260202T111600Z
UID:4186-1780689600-1780689600@www.schuetzenverein-okel.de
SUMMARY:Spieleabend
DESCRIPTION:Wir spielen Doppelkopf\, Schwimmen sowie nach Bedarf gerne andere Brett- und Kartenspiele.
URL:https://www.schuetzenverein-okel.de/event/spieleabend-19/
LOCATION:Privat: Schützenhalle
ATTACH;FMTTYPE=image/jpeg:https://www.schuetzenverein-okel.de/wp-content/uploads/2024/01/IMG-20240103-WA0007.jpg
END:VEVENT
BEGIN:VEVENT
DTSTART;TZID=Europe/Berlin:20260617T180000
DTEND;TZID=Europe/Berlin:20260617T180000
DTSTAMP:20260424T140125
CREATED:20260202T102744Z
LAST-MODIFIED:20260202T102744Z
UID:4111-1781719200-1781719200@www.schuetzenverein-okel.de
SUMMARY:Saal aufbauen
DESCRIPTION:
URL:https://www.schuetzenverein-okel.de/event/saal-aufbauen/
LOCATION:Privat: Reithalle
END:VEVENT
BEGIN:VEVENT
DTSTART;TZID=Europe/Berlin:20260618T180000
DTEND;TZID=Europe/Berlin:20260618T180000
DTSTAMP:20260424T140125
CREATED:20260202T102837Z
LAST-MODIFIED:20260202T102837Z
UID:4113-1781805600-1781805600@www.schuetzenverein-okel.de
SUMMARY:Saal aufbauen
DESCRIPTION:
URL:https://www.schuetzenverein-okel.de/event/saal-aufbauen-2/
LOCATION:Privat: Reithalle
END:VEVENT
BEGIN:VEVENT
DTSTART;VALUE=DATE:20260620
DTEND;VALUE=DATE:20260622
DTSTAMP:20260424T140125
CREATED:20251201T173135Z
LAST-MODIFIED:20260408T192603Z
UID:3934-1781913600-1782086399@www.schuetzenverein-okel.de
SUMMARY:Schützenfest
DESCRIPTION:
URL:https://www.schuetzenverein-okel.de/event/schuetzenfest-2/
LOCATION:Privat: Reithalle
ATTACH;FMTTYPE=image/jpeg:https://www.schuetzenverein-okel.de/wp-content/uploads/2026/04/Schuetzenfest-2026-Flyer.jpg
END:VEVENT
BEGIN:VEVENT
DTSTART;TZID=Europe/Berlin:20260622T150000
DTEND;TZID=Europe/Berlin:20260622T150000
DTSTAMP:20260424T140125
CREATED:20260202T103040Z
LAST-MODIFIED:20260202T103205Z
UID:4115-1782140400-1782140400@www.schuetzenverein-okel.de
SUMMARY:Saal umbauen für das Jubiläum
DESCRIPTION:
URL:https://www.schuetzenverein-okel.de/event/saal-umbauen-fuer-das-jubilaeum/
LOCATION:Privat: Reithalle
END:VEVENT
BEGIN:VEVENT
DTSTART;VALUE=DATE:20260627
DTEND;VALUE=DATE:20260628
DTSTAMP:20260424T140125
CREATED:20251201T173359Z
LAST-MODIFIED:20260202T102937Z
UID:3936-1782518400-1782604799@www.schuetzenverein-okel.de
SUMMARY:Festkommers zum 100-jährigen Jubiläum
DESCRIPTION:
URL:https://www.schuetzenverein-okel.de/event/festkommers-zum-100-jaehrigen-jubilaeum/
LOCATION:Privat: Reithalle
ATTACH;FMTTYPE=image/jpeg:https://www.schuetzenverein-okel.de/wp-content/uploads/2025/12/PHOTO-2025-11-28-21-02-56.jpg
END:VEVENT
BEGIN:VEVENT
DTSTART;TZID=Europe/Berlin:20260629T150000
DTEND;TZID=Europe/Berlin:20260629T150000
DTSTAMP:20260424T140125
CREATED:20260202T103136Z
LAST-MODIFIED:20260202T103136Z
UID:4117-1782745200-1782745200@www.schuetzenverein-okel.de
SUMMARY:Saal abbauen
DESCRIPTION:
URL:https://www.schuetzenverein-okel.de/event/saal-abbauen/
LOCATION:Privat: Reithalle
END:VEVENT
BEGIN:VEVENT
DTSTART;TZID=Europe/Berlin:20260630T180000
DTEND;TZID=Europe/Berlin:20260630T180000
DTSTAMP:20260424T140125
CREATED:20260202T103319Z
LAST-MODIFIED:20260202T103319Z
UID:4119-1782842400-1782842400@www.schuetzenverein-okel.de
SUMMARY:Fahrradtour der Damen
DESCRIPTION:
URL:https://www.schuetzenverein-okel.de/event/fahrradtour-der-damen-2/
END:VEVENT
BEGIN:VEVENT
DTSTART;TZID=Europe/Berlin:20260703T200000
DTEND;TZID=Europe/Berlin:20260703T200000
DTSTAMP:20260424T140125
CREATED:20260202T111522Z
LAST-MODIFIED:20260202T111522Z
UID:4187-1783108800-1783108800@www.schuetzenverein-okel.de
SUMMARY:Spieleabend
DESCRIPTION:Wir spielen Doppelkopf\, Schwimmen sowie nach Bedarf gerne andere Brett- und Kartenspiele.
URL:https://www.schuetzenverein-okel.de/event/spieleabend-18/
LOCATION:Privat: Schützenhalle
ATTACH;FMTTYPE=image/jpeg:https://www.schuetzenverein-okel.de/wp-content/uploads/2024/01/IMG-20240103-WA0007.jpg
END:VEVENT
BEGIN:VEVENT
DTSTART;VALUE=DATE:20260704
DTEND;VALUE=DATE:20260706
DTSTAMP:20260424T140125
CREATED:20260202T110326Z
LAST-MODIFIED:20260202T110326Z
UID:4167-1783123200-1783295999@www.schuetzenverein-okel.de
SUMMARY:Schützenfest Thedinghausen
DESCRIPTION:
URL:https://www.schuetzenverein-okel.de/event/schuetzenfest-thedinghausen/
END:VEVENT
END:VCALENDAR